BEGIN:VCALENDAR
VERSION:2.0
PRODID:-//Tukios.com/
BEGIN:VEVENT
UID:ce0ab119-cda8-4652-9f29-b97d89da1412@www.pettusrowlandfh.com
DTSTAMP:20260424T193554Z
DTSTART:20260502T160000Z
DTEND:20260502T170000Z
SUMMARY:Funeral Service
DESCRIPTION:
URL:https://www.pettusrowlandfh.com/obituaries/myron-massie
LOCATION: 1324 Bloomfield Avenue  Paducah KY 42001
GEO:37.0899995;-88.6282962
END:VEVENT
END:VCALENDAR