BEGIN:VCALENDAR
VERSION:2.0
PRODID:-//Tukios.com/
BEGIN:VEVENT
UID:aaf0edce-3660-4d13-aa3b-23e6f1342f48@www.pettusrowlandfh.com
DTSTAMP:20260424T193232Z
DTSTART:20260502T150000Z
DTEND:20260502T160000Z
SUMMARY:Visitation
DESCRIPTION:
URL:https://www.pettusrowlandfh.com/obituaries/myron-massie
LOCATION: 1324 Bloomfield Avenue  Paducah KY 42001
GEO:37.0899995;-88.6282962
END:VEVENT
END:VCALENDAR